BEGIN:VCALENDAR
VERSION:2.0
PRODID:-//Das Netzwerk zur Technischen Sauberkeit - ECPv6.15.20//NONSGML v1.0//EN
CALSCALE:GREGORIAN
METHOD:PUBLISH
X-WR-CALNAME:Das Netzwerk zur Technischen Sauberkeit
X-ORIGINAL-URL:https://cec-leonberg.de
X-WR-CALDESC:Veranstaltungen für Das Netzwerk zur Technischen Sauberkeit
REFRESH-INTERVAL;VALUE=DURATION:PT1H
X-Robots-Tag:noindex
X-PUBLISHED-TTL:PT1H
BEGIN:VTIMEZONE
TZID:UTC
BEGIN:STANDARD
TZOFFSETFROM:+0000
TZOFFSETTO:+0000
TZNAME:UTC
DTSTART:20250101T000000
END:STANDARD
END:VTIMEZONE
BEGIN:VEVENT
DTSTART;VALUE=DATE:20260428
DTEND;VALUE=DATE:20260429
DTSTAMP:20260424T155312
CREATED:20260119T152851Z
LAST-MODIFIED:20260119T152851Z
UID:3255-1777334400-1777420799@cec-leonberg.de
SUMMARY:LAB-SUPPLY 2026 in Münster
DESCRIPTION:Labortechnik zum Anfassen – die regionale Fachmesse für instrumentelle Analytik\, Labortechnik\, Laborchemikalien und Life Science. \nAn acht Standorten in Deutschland\, zwei in Österreich und an einem Standort in den Niederlanden können Sie sich ohne großen Aufwand\, an nur einem Tag\, schnell\, einfach und kostensparend über die neuesten Trends in der Labor-Branche informieren. Die Vielfalt an Ausstellern ermöglicht es Ihnen\, den bestmöglichen Überblick zu erhalten\, was in der Labor-Branche gerade so los ist und welche Neuerungen es gibt. \nDie LAB-SUPPLY richtet sich an Experten und Fachpersonal aus folgenden Bereichen: \n\nLaboratorien im produzierenden Gewerbe\nForschungslaboratorien und Institute\, Universitäten\, Hochschulen\, Fachhochschulen\, Gesellschaften\nKlinisch-chemische Laboratorien im staatlichen und privaten Gesundheitswesen\nBehörden und Verbände\, sonstige Organisationen\nDienstleistungsunternehmen aus dem Laborsektor\nGroßhandel mit Geräten und Apparaten sowie technischen Spezialbedarf und Einrichtungen für Laboratorien\n\nDas CEC ist mit einem Ausstellerstand vor Ort auf der LAB-SUPPLY 2026 vertreten und wird dort das CEC-Netzwerk mit seinen Mitgliedern repräsentieren. \nWir freuen uns auf das Gespräch am CEC-Stand. \nJetzt kostenfrei als Besucher >> anmelden.
URL:https://cec-leonberg.de/termine/lab-supply-2026-in-muenster/
LOCATION:Münster
CATEGORIES:Messe
ATTACH;FMTTYPE=image/gif:https://cec-leonberg.de/wp-content/uploads/2026/01/Alle_Termine_LAB-SUPPLY_ContentAd_300×250px.gif
END:VEVENT
END:VCALENDAR