BEGIN:VCALENDAR
VERSION:2.0
PRODID:-//Das Netzwerk zur Technischen Sauberkeit - ECPv6.15.20//NONSGML v1.0//EN
CALSCALE:GREGORIAN
METHOD:PUBLISH
X-WR-CALNAME:Das Netzwerk zur Technischen Sauberkeit
X-ORIGINAL-URL:https://cec-leonberg.de
X-WR-CALDESC:Veranstaltungen für Das Netzwerk zur Technischen Sauberkeit
REFRESH-INTERVAL;VALUE=DURATION:PT1H
X-Robots-Tag:noindex
X-PUBLISHED-TTL:PT1H
BEGIN:VTIMEZONE
TZID:UTC
BEGIN:STANDARD
TZOFFSETFROM:+0000
TZOFFSETTO:+0000
TZNAME:UTC
DTSTART:20250101T000000
END:STANDARD
END:VTIMEZONE
BEGIN:VEVENT
DTSTART;TZID=UTC:20261018T180000
DTEND;TZID=UTC:20261018T210000
DTSTAMP:20260425T001928
CREATED:20251216T145044Z
LAST-MODIFIED:20260302T131741Z
UID:3160-1792346400-1792357200@cec-leonberg.de
SUMMARY:Clean Tech Convention 2026 – Motivation. Zukunft. Aufbruch. | Vorabendprogramm
DESCRIPTION:Mit der Clean Tech Convention 2026 starten wir ein neues Netzwerk-Event für die Branche\, das Zukunft greifbarer macht und Menschen miteinander verbindet. \nIm Fokus stehen Innovationen\, relevante Trends und wegweisende Strategien rund um die industrielle Teilereinigung und Technische Sauberkeit. \n\nFreuen Sie sich auf kurze Pitch-Sessions\, die neue Perspektiven eröffnen und zum Weiterdenken anregen.\nErleben Sie einen offenen\, interaktiven Austausch\, der Wissen teilt und frische Impulse für Ihre Aufgaben liefert.\nEntdecken Sie Ideen\, die Orientierung geben und Lust auf die nächsten Schritte machen.\n\nDas Event richtet sich an Hersteller und Anwender gleichermaßen – sowohl für CEC-Mitglieder als auch für Nicht-Mitglieder. \nDie Clean Tech Convention 2026 verbindet Know-how\, Networking und Inspiration in lässiger Club-Atmosphäre. Ein Rahmen\, der kreativen Austausch fördert und neue Verbindungen entstehen lässt. \nNehmen Sie teil und bleiben Sie zukunftssicher! \n  \nAm 19.10.2026 in Ludwigsburg – Termin unbedingt vormerken! \n  \nFreuen Sie sich außerdem auf das Vorabendprogramm am 18.10.2026. \n  \nWeitere Infos und Anmeldung auf der Veranstaltungsseite. \n  \nDie Veranstaltung wird unterstützt durch die Wirtschaftsförderung Region Stuttgart (WRS).
URL:https://cec-leonberg.de/termine/clean-tech-convention-2026-zukunft-trifft-sauberkeit-vorabendprogramm/
LOCATION:Ludwigsburg
CATEGORIES:CEC-Veranstaltung
ATTACH;FMTTYPE=image/jpeg:https://cec-leonberg.de/wp-content/uploads/2026/02/Clean-Tech-Convention_Logo_250x150_Rahmen.jpg
ORGANIZER;CN="Cleaning Excellence Center (CEC)":MAILTO:info@cec-leonberg.de
END:VEVENT
BEGIN:VEVENT
DTSTART;TZID=UTC:20261019T083000
DTEND;TZID=UTC:20261019T163000
DTSTAMP:20260425T001928
CREATED:20251216T144928Z
LAST-MODIFIED:20260302T131821Z
UID:3158-1792398600-1792427400@cec-leonberg.de
SUMMARY:Clean Tech Convention 2026 – Motivation. Zukunft. Aufbruch. | Event-Tag
DESCRIPTION:Mit der Clean Tech Convention 2026 starten wir ein neues Netzwerk-Event für die Branche\, das Zukunft greifbarer macht und Menschen miteinander verbindet. \nIm Fokus stehen Innovationen\, relevante Trends und wegweisende Strategien rund um die industrielle Teilereinigung und Technische Sauberkeit. \n\nFreuen Sie sich auf kurze Pitch-Sessions\, die neue Perspektiven eröffnen und zum Weiterdenken anregen.\nErleben Sie einen offenen\, interaktiven Austausch\, der Wissen teilt und frische Impulse für Ihre Aufgaben liefert.\nEntdecken Sie Ideen\, die Orientierung geben und Lust auf die nächsten Schritte machen.\n\nDas Event richtet sich an Hersteller und Anwender gleichermaßen – sowohl für CEC-Mitglieder als auch für Nicht-Mitglieder. \nDie Clean Tech Convention 2026 verbindet Know-how\, Networking und Inspiration in lässiger Club-Atmosphäre. Ein Rahmen\, der kreativen Austausch fördert und neue Verbindungen entstehen lässt. \nNehmen Sie teil und bleiben Sie zukunftssicher! \n  \nAm 19.10.2026 in Ludwigsburg – Termin unbedingt vormerken! \n  \nFreuen Sie sich außerdem auf das Vorabendprogramm am 18.10.2026. \n  \nWeitere Infos und Anmeldung auf der Veranstaltungsseite. \n  \nDie Veranstaltung wird unterstützt durch die Wirtschaftsförderung Region Stuttgart (WRS).
URL:https://cec-leonberg.de/termine/clean-tech-convention/
LOCATION:Ludwigsburg
CATEGORIES:CEC-Veranstaltung
ATTACH;FMTTYPE=image/jpeg:https://cec-leonberg.de/wp-content/uploads/2026/02/Clean-Tech-Convention_Logo_250x150_Rahmen.jpg
ORGANIZER;CN="Cleaning Excellence Center (CEC)":MAILTO:info@cec-leonberg.de
END:VEVENT
BEGIN:VEVENT
DTSTART;VALUE=DATE:20261021
DTEND;VALUE=DATE:20261022
DTSTAMP:20260425T001928
CREATED:20260119T153323Z
LAST-MODIFIED:20260119T153323Z
UID:3262-1792540800-1792627199@cec-leonberg.de
SUMMARY:LAB-SUPPLY 2026 in Freiburg
DESCRIPTION:Labortechnik zum Anfassen – die regionale Fachmesse für instrumentelle Analytik\, Labortechnik\, Laborchemikalien und Life Science. \nAn acht Standorten in Deutschland\, zwei in Österreich und an einem Standort in den Niederlanden können Sie sich ohne großen Aufwand\, an nur einem Tag\, schnell\, einfach und kostensparend über die neuesten Trends in der Labor-Branche informieren. Die Vielfalt an Ausstellern ermöglicht es Ihnen\, den bestmöglichen Überblick zu erhalten\, was in der Labor-Branche gerade so los ist und welche Neuerungen es gibt. \nDie LAB-SUPPLY richtet sich an Experten und Fachpersonal aus folgenden Bereichen: \n\nLaboratorien im produzierenden Gewerbe\nForschungslaboratorien und Institute\, Universitäten\, Hochschulen\, Fachhochschulen\, Gesellschaften\nKlinisch-chemische Laboratorien im staatlichen und privaten Gesundheitswesen\nBehörden und Verbände\, sonstige Organisationen\nDienstleistungsunternehmen aus dem Laborsektor\nGroßhandel mit Geräten und Apparaten sowie technischen Spezialbedarf und Einrichtungen für Laboratorien\n\nDas CEC ist mit einem Ausstellerstand vor Ort auf der LAB-SUPPLY 2026 vertreten und wird dort das CEC-Netzwerk mit seinen Mitgliedern repräsentieren. \nWir freuen uns auf das Gespräch am CEC-Stand. \nJetzt kostenfrei als Besucher >> anmelden.
URL:https://cec-leonberg.de/termine/lab-supply-2026-in-freiburg/
LOCATION:Freiburg
CATEGORIES:Messe
ATTACH;FMTTYPE=image/gif:https://cec-leonberg.de/wp-content/uploads/2026/01/Alle_Termine_LAB-SUPPLY_ContentAd_300×250px.gif
END:VEVENT
END:VCALENDAR