BEGIN:VCALENDAR
VERSION:2.0
PRODID:-//Das Netzwerk zur Technischen Sauberkeit - ECPv6.15.20//NONSGML v1.0//EN
CALSCALE:GREGORIAN
METHOD:PUBLISH
X-ORIGINAL-URL:https://cec-leonberg.de
X-WR-CALDESC:Veranstaltungen für Das Netzwerk zur Technischen Sauberkeit
REFRESH-INTERVAL;VALUE=DURATION:PT1H
X-Robots-Tag:noindex
X-PUBLISHED-TTL:PT1H
BEGIN:VTIMEZONE
TZID:UTC
BEGIN:STANDARD
TZOFFSETFROM:+0000
TZOFFSETTO:+0000
TZNAME:UTC
DTSTART:20250101T000000
END:STANDARD
END:VTIMEZONE
BEGIN:VEVENT
DTSTART;VALUE=DATE:20260304
DTEND;VALUE=DATE:20260305
DTSTAMP:20260424T191720
CREATED:20260119T152804Z
LAST-MODIFIED:20260119T152804Z
UID:3253-1772582400-1772668799@cec-leonberg.de
SUMMARY:LAB-SUPPLY 2026 in Frankfurt
DESCRIPTION:Labortechnik zum Anfassen – die regionale Fachmesse für instrumentelle Analytik\, Labortechnik\, Laborchemikalien und Life Science. \nAn acht Standorten in Deutschland\, zwei in Österreich und an einem Standort in den Niederlanden können Sie sich ohne großen Aufwand\, an nur einem Tag\, schnell\, einfach und kostensparend über die neuesten Trends in der Labor-Branche informieren. Die Vielfalt an Ausstellern ermöglicht es Ihnen\, den bestmöglichen Überblick zu erhalten\, was in der Labor-Branche gerade so los ist und welche Neuerungen es gibt. \nDie LAB-SUPPLY richtet sich an Experten und Fachpersonal aus folgenden Bereichen: \n\nLaboratorien im produzierenden Gewerbe\nForschungslaboratorien und Institute\, Universitäten\, Hochschulen\, Fachhochschulen\, Gesellschaften\nKlinisch-chemische Laboratorien im staatlichen und privaten Gesundheitswesen\nBehörden und Verbände\, sonstige Organisationen\nDienstleistungsunternehmen aus dem Laborsektor\nGroßhandel mit Geräten und Apparaten sowie technischen Spezialbedarf und Einrichtungen für Laboratorien\n\nDas CEC ist mit einem Ausstellerstand vor Ort auf der LAB-SUPPLY 2026 vertreten und wird dort das CEC-Netzwerk mit seinen Mitgliedern repräsentieren. \nWir freuen uns auf das Gespräch am CEC-Stand. \nJetzt kostenfrei als Besucher >> anmelden.
URL:https://cec-leonberg.de/termine/lab-supply-2026-in-frankfurt/
LOCATION:Frankfurt/M.
CATEGORIES:Messe
ATTACH;FMTTYPE=image/gif:https://cec-leonberg.de/wp-content/uploads/2026/01/Alle_Termine_LAB-SUPPLY_ContentAd_300×250px.gif
END:VEVENT
BEGIN:VEVENT
DTSTART;VALUE=DATE:20260324
DTEND;VALUE=DATE:20260326
DTSTAMP:20260424T191720
CREATED:20250521T144237Z
LAST-MODIFIED:20250521T144237Z
UID:3045-1774310400-1774483199@cec-leonberg.de
SUMMARY:Online-Seminar zur Revision der VDA 19.1 von 2025 (2)
DESCRIPTION:Online-Seminar der CleanControlling GmbH \nDetaillierte Betrachtung der Änderungen und Neuerungen zur Revision der VDA 19.1 von 2025. \nDie 3. Ausgabe der VDA 19.1 – Was wird neu sein? \nDer Wandel zur E-Mobilität und Assistenzsystemen konfrontiert die Technische Sauberkeit zunehmend mit neuen Themen und Herausforderungen. Die Revision der VDA 19.1 2025 zielt daher insbesondere auf dies neuen Anforderungen ab. Das Online-Seminar bringt den Teilnehmern die Hintergründe und Motivation zur Revision der VDA 19.1 2025 näher und geht auf die wesentlichen Neuerungen ein. \nZielgruppe \nLaborleiter und Labormitarbeiter in Technischen Sauberkeitslaboren\, Verantwortliche Konstrukteure\, Projektleiter und Qualitätsmitarbeiter die Sauberkeitsspezifikationen festlegen und das Qualitätsmerkmal an die Lieferkette weitergeben müssen. Einkaufs- und Vertriebsmitarbeiter die mit dem Merkmal Technische Sauberkeit konfrontiert werden. Fach- und Führungskräfte\, die in ihrer Arbeit mit den Fragestellungen der Technischen Sauberkeit konfrontiert sind. \nDas detaillierte Programm und die Anmeldung finden Sie => hier.
URL:https://cec-leonberg.de/termine/online-seminar-zur-revision-der-vda-19-1-von-2025-2/
LOCATION:Online
CATEGORIES:Schulungshinweis
ATTACH;FMTTYPE=image/jpeg:https://cec-leonberg.de/wp-content/uploads/2021/03/Icon_CEC_Veranstaltungshinweis.jpg
END:VEVENT
END:VCALENDAR