BEGIN:VCALENDAR
VERSION:2.0
PRODID:-//Das Netzwerk zur Technischen Sauberkeit - ECPv6.15.20//NONSGML v1.0//EN
CALSCALE:GREGORIAN
METHOD:PUBLISH
X-WR-CALNAME:Das Netzwerk zur Technischen Sauberkeit
X-ORIGINAL-URL:https://cec-leonberg.de
X-WR-CALDESC:Veranstaltungen für Das Netzwerk zur Technischen Sauberkeit
REFRESH-INTERVAL;VALUE=DURATION:PT1H
X-Robots-Tag:noindex
X-PUBLISHED-TTL:PT1H
BEGIN:VTIMEZONE
TZID:UTC
BEGIN:STANDARD
TZOFFSETFROM:+0000
TZOFFSETTO:+0000
TZNAME:UTC
DTSTART:20250101T000000
END:STANDARD
END:VTIMEZONE
BEGIN:VEVENT
DTSTART;VALUE=DATE:20260113
DTEND;VALUE=DATE:20260115
DTSTAMP:20260424T210242
CREATED:20210322T150924Z
LAST-MODIFIED:20251014T123501Z
UID:1482-1768262400-1768435199@cec-leonberg.de
SUMMARY:Grundlagenseminar: Technische Sauberkeit VDA 19.1 und VDA19.2
DESCRIPTION:Online-Grundlagenseminar der CleanControlling GmbH \nFür die Sicherstellung der Anforderungen an die Technische Sauberkeit spielt das Grundwissen und die Sensibilisierung von Fachpersonal und Mitarbeitern zum Thema Technische Sauberkeit eine entscheidende Rolle. \nDas Grundlagenseminar der CleanControlling GmbH vermittelt die Kerninhalte der Technischen Sauberkeit und bietet einen Überblick über die relevanten Bereiche und Einflussfaktoren auf die Sauberkeit von Produkten und Bauteilen\, sowie die norm- und regelwerkgerechte Durchführung einer Sauberkeitsprüfung. \nThemenschwerpunkte \n\nSauberkeitsprüfung nach VDA 19 Teil 1\nMontage und Produktionssauberkeit nach VDA 19 Teil 2\nDefinition und Umgang von/mit Sauberkeitsgrenzwerten\n\nDas detaillierte Programm und die Anmeldung finden Sie => hier.
URL:https://cec-leonberg.de/termine/grundlagenseminar-technische-sauberkeit-vda-19-1-und-vda19-2/
LOCATION:Online
CATEGORIES:Schulungshinweis
ATTACH;FMTTYPE=image/jpeg:https://cec-leonberg.de/wp-content/uploads/2021/03/Icon_CEC_Veranstaltungshinweis.jpg
END:VEVENT
END:VCALENDAR