BEGIN:VCALENDAR
VERSION:2.0
PRODID:-//Das Netzwerk zur Technischen Sauberkeit - ECPv6.15.20//NONSGML v1.0//EN
CALSCALE:GREGORIAN
METHOD:PUBLISH
X-ORIGINAL-URL:https://cec-leonberg.de
X-WR-CALDESC:Veranstaltungen für Das Netzwerk zur Technischen Sauberkeit
REFRESH-INTERVAL;VALUE=DURATION:PT1H
X-Robots-Tag:noindex
X-PUBLISHED-TTL:PT1H
BEGIN:VTIMEZONE
TZID:UTC
BEGIN:STANDARD
TZOFFSETFROM:+0000
TZOFFSETTO:+0000
TZNAME:UTC
DTSTART:20240101T000000
END:STANDARD
END:VTIMEZONE
BEGIN:VEVENT
DTSTART;VALUE=DATE:20251209
DTEND;VALUE=DATE:20251211
DTSTAMP:20260424T224322
CREATED:20250521T144006Z
LAST-MODIFIED:20250521T144255Z
UID:3043-1765238400-1765411199@cec-leonberg.de
SUMMARY:Online-Seminar zur Revision der VDA 19.1 von 2025 (1)
DESCRIPTION:Online-Seminar der CleanControlling GmbH \nDetaillierte Betrachtung der Änderungen und Neuerungen zur Revision der VDA 19.1 von 2025. \nDie 3. Ausgabe der VDA 19.1 – Was wird neu sein? \nDer Wandel zur E-Mobilität und Assistenzsystemen konfrontiert die Technische Sauberkeit zunehmend mit neuen Themen und Herausforderungen. Die Revision der VDA 19.1 2025 zielt daher insbesondere auf dies neuen Anforderungen ab. Das Online-Seminar bringt den Teilnehmern die Hintergründe und Motivation zur Revision der VDA 19.1 2025 näher und geht auf die wesentlichen Neuerungen ein. \nZielgruppe \nLaborleiter und Labormitarbeiter in Technischen Sauberkeitslaboren\, Verantwortliche Konstrukteure\, Projektleiter und Qualitätsmitarbeiter die Sauberkeitsspezifikationen festlegen und das Qualitätsmerkmal an die Lieferkette weitergeben müssen. Einkaufs- und Vertriebsmitarbeiter die mit dem Merkmal Technische Sauberkeit konfrontiert werden. Fach- und Führungskräfte\, die in ihrer Arbeit mit den Fragestellungen der Technischen Sauberkeit konfrontiert sind. \nDas detaillierte Programm und die Anmeldung finden Sie => hier.
URL:https://cec-leonberg.de/termine/online-seminar-zur-revision-der-vda-19-1-von-2025/
LOCATION:Online
CATEGORIES:Schulungshinweis
ATTACH;FMTTYPE=image/jpeg:https://cec-leonberg.de/wp-content/uploads/2021/03/Icon_CEC_Veranstaltungshinweis.jpg
END:VEVENT
END:VCALENDAR