BEGIN:VCALENDAR
VERSION:2.0
PRODID:-//Das Netzwerk zur Technischen Sauberkeit - ECPv6.15.20//NONSGML v1.0//EN
CALSCALE:GREGORIAN
METHOD:PUBLISH
X-WR-CALNAME:Das Netzwerk zur Technischen Sauberkeit
X-ORIGINAL-URL:https://cec-leonberg.de
X-WR-CALDESC:Veranstaltungen für Das Netzwerk zur Technischen Sauberkeit
REFRESH-INTERVAL;VALUE=DURATION:PT1H
X-Robots-Tag:noindex
X-PUBLISHED-TTL:PT1H
BEGIN:VTIMEZONE
TZID:UTC
BEGIN:STANDARD
TZOFFSETFROM:+0000
TZOFFSETTO:+0000
TZNAME:UTC
DTSTART:20240101T000000
END:STANDARD
END:VTIMEZONE
BEGIN:VEVENT
DTSTART;VALUE=DATE:20251007
DTEND;VALUE=DATE:20251010
DTSTAMP:20260425T014644
CREATED:20210322T152849Z
LAST-MODIFIED:20250808T104140Z
UID:1501-1759795200-1760054399@cec-leonberg.de
SUMMARY:CEC-Gemeinschaftsstand auf der parts2clean 2025 in Stuttgart | Halle 10\, Stand B36
DESCRIPTION:Internationale Leitmesse für industrielle Teile- und Oberflächenreinigung vom 07. – 09. Oktober 2025 in Stuttgart. \nAls die internationale Informations- und Beschaffungsplattform für industrielle Reinigungstechnik zieht die parts2clean Fachbesucher aus allen Branchen an. Wenn es darum geht\, Sauberkeit zu definieren\, zu erreichen\, zu erhalten\, nachzuweisen und zu dokumentieren – dann führt kein Weg an der parts2clean vorbei. Nahezu alle Markt- und Technologieführer aus den relevanten Themenbereichen kommen mit ihren Ideen und Neuheiten nach Stuttgart\, um dort mit Besuchern sämtlicher Anwenderbranchen aus dem In- und Ausland gemeinsame Lösungen zu besprechen und neue Projekte auf den Weg zu bringen. \nAuch das CEC wird wieder mit dem CEC-Gemeinschaftsstand auf der parts2clean 2025 vertreten sein. Besuchen Sie uns in Halle 10\, Stand B36! \nWerden Sie jetzt noch Mitaussteller und informieren Sie sich dazu über die CEC-Geschäftsstelle.
URL:https://cec-leonberg.de/termine/parts2clean-2021/
LOCATION:Messegelände Stuttgart
CATEGORIES:Messe
ATTACH;FMTTYPE=image/jpeg:https://cec-leonberg.de/wp-content/uploads/2021/03/IMG_2459-scaled.jpg
END:VEVENT
BEGIN:VEVENT
DTSTART;VALUE=DATE:20251021
DTEND;VALUE=DATE:20251023
DTSTAMP:20260425T014644
CREATED:20220223T093903Z
LAST-MODIFIED:20250711T112342Z
UID:1890-1761004800-1761177599@cec-leonberg.de
SUMMARY:8. Fachkonferenz: Filmische Verunreinigung & Saubere Fertigungsprozesse
DESCRIPTION:Am 21. und 22. Oktober 2025 kommen in Bad Gögging führende Experten und Fachleute aus den Bereichen Forschung\, Produktion und Qualitätssicherung zusammen\, um die neuesten Entwicklungen und Technologien rund um das Thema filmische Verunreinigung zu diskutieren. Der Kongress bietet umfassende Einblicke in hochmoderne Analyseverfahren\, Reinraumtechnologien und nachhaltige Reinigungsprozesse und zeigt praxisnahe Lösungen auf\, die direkt in den Arbeitsalltag integriert werden können. \nFolgende TOP-THEMEN erwarten Sie: \n\nKI-gestützte Analysen zur Erkennung filmischer Verunreinigungen\nFunktionsflächenspezifische Reinigung – steht ein Paradigmenwechsel bevor?\nIntegrierte Reinigungstechnologien für mehr Prozesssicherheit\nVerpackung neu denken: Anforderungen\, Verantwortlichkeiten\, Wirtschaftlichkeit\nProzess-Monitoring & Datenmanagement – wer trägt Verantwortung\, wem gehören die Daten?\n\n  \nCEC-Mitglieder erhalten wieder einen Rabatt von 20% auf den regulären Teilnahmepreis. Bitte wenden Sie sich dafür an die CEC-Geschäftsstelle.
URL:https://cec-leonberg.de/termine/5-fachtagung-filmische-verunreinigung/
LOCATION:Bad Gögging
CATEGORIES:Fachtagung
ATTACH;FMTTYPE=image/jpeg:https://cec-leonberg.de/wp-content/uploads/2022/02/banner_filmische_ticket_sichern_1920x1920.jpg
END:VEVENT
BEGIN:VEVENT
DTSTART;TZID=UTC:20251030T160000
DTEND;TZID=UTC:20251030T164500
DTSTAMP:20260425T014644
CREATED:20240228T143137Z
LAST-MODIFIED:20251031T084551Z
UID:2652-1761840000-1761842700@cec-leonberg.de
SUMMARY:Basis-Anwender-Schulung: Reinigung in technischen Reinräumen - Grundlagen und Best Practices
DESCRIPTION:Mit den Basis-Anwender-Schulungen schafft das CEC eine weitere Möglichkeit\, Mitarbeiter in Unternehmen für Anwendungen im Zusammenhang mit Technischer Sauberkeit zu sensibilisieren und das Bewusstsein dafür zu schärfen. Die Referenten und Themenschwerpunkte der einzelnen Schulungsangebote wechseln. Übergeordnetes Ziel der Basis-Schulungen ist es\, Anwender\, die sich neu mit dem Thema Technische Sauberkeit auseinandersetzen müssen\, aber auch Personen aus anderen Unternehmensbereichen zu erreichen und für das Thema zu sensibilisieren. Das CEC freut sich auf Ihre Anmeldung. \nThemenschwerpunkt: Reinigung in technischen Reinräumen – Grundlagen und Best Practices \nTermin: 30.10.2025 | 16:00 – 16:45 Uhr \nFormat: Online (Zugangslink wird einen Tag vor Veranstaltungsbeginn per Mail versendet) \nReferent: Jürgen Lederer (Pfennig Reinigungstechnik GmbH) \nTeilnahme: kostenfrei \n=> Anmeldung zur Basis-Anwender-Schulung \nDie Veranstaltungsreihe wird unterstützt durch die Wirtschaftsförderung Region Stuttgart (WRS).
URL:https://cec-leonberg.de/termine/basis-anwender-schulung-reinigung-in-technischen-reinraeumen/
LOCATION:Online per Zoom
CATEGORIES:Schulung
ATTACH;FMTTYPE=image/jpeg:https://cec-leonberg.de/wp-content/uploads/2023/07/Abbildung_Basis-Schulung.jpg
ORGANIZER;CN="Cleaning Excellence Center (CEC)":MAILTO:info@cec-leonberg.de
END:VEVENT
END:VCALENDAR