BEGIN:VCALENDAR
VERSION:2.0
PRODID:-//Das Netzwerk zur Technischen Sauberkeit - ECPv6.15.20//NONSGML v1.0//EN
CALSCALE:GREGORIAN
METHOD:PUBLISH
X-WR-CALNAME:Das Netzwerk zur Technischen Sauberkeit
X-ORIGINAL-URL:https://cec-leonberg.de
X-WR-CALDESC:Veranstaltungen für Das Netzwerk zur Technischen Sauberkeit
REFRESH-INTERVAL;VALUE=DURATION:PT1H
X-Robots-Tag:noindex
X-PUBLISHED-TTL:PT1H
BEGIN:VTIMEZONE
TZID:UTC
BEGIN:STANDARD
TZOFFSETFROM:+0000
TZOFFSETTO:+0000
TZNAME:UTC
DTSTART:20240101T000000
END:STANDARD
END:VTIMEZONE
BEGIN:VEVENT
DTSTART;VALUE=DATE:20250303
DTEND;VALUE=DATE:20250701
DTSTAMP:20260425T130927
CREATED:20240126T133432Z
LAST-MODIFIED:20250605T112548Z
UID:2594-1740960000-1751327999@cec-leonberg.de
SUMMARY:Umfrage zur Marktentwicklung in der Technischen Sauberkeit
DESCRIPTION:Bereits seit 2021 für das CEC einmal im Jahr eine Umfrage zur Marktentwicklung in der Technischen Sauberkeit in der Branche durch. Die daraus generierten Daten werden anschließend durch das CEC aufbereitet und den CEC-Mitgliedern sowie allen weiteren Teilnehmern an der Umfrage kostenfrei zur Verfügung gestellt. \nBei der Umfrage steht die betriebswirtschaftliche Sichtweise auf den Markt und die Branche im Mittelpunkt\, sodass die gewonnenen Erkenntnisse eine Orientierung für die eigene Unternehmensausrichtung bieten. \nMitmachen lohnt sich! \nHier gelangen Sie zur => Umfrage \nVielen Dank für Ihre Unterstützung!
URL:https://cec-leonberg.de/termine/umfrage-zur-marktentwicklung-in-der-technischen-sauberkeit/
LOCATION:Online
CATEGORIES:CEC-Veranstaltung
ATTACH;FMTTYPE=image/jpeg:https://cec-leonberg.de/wp-content/uploads/2024/01/Icon_CEC_Umfrage.jpg
ORGANIZER;CN="Cleaning Excellence Center (CEC)":MAILTO:info@cec-leonberg.de
END:VEVENT
BEGIN:VEVENT
DTSTART;TZID=UTC:20250409T093000
DTEND;TZID=UTC:20250409T110000
DTSTAMP:20260425T130927
CREATED:20250303T154338Z
LAST-MODIFIED:20250303T160728Z
UID:2992-1744191000-1744196400@cec-leonberg.de
SUMMARY:Kooperationsveranstaltung: „Angebote erfolgreich nachfassen“
DESCRIPTION:In Kooperation mit der Wirtschaftsförderung Region Stuttgart laden wir Sie herzlich zur Online-Veranstaltung „Angebote erfolgreich zum Abschluss bringen – Nachfassen ohne aufdringlich zu wirken“ am 09.04.2025 ein. \nHerausfordernde Zeiten für den Mittelstand: Märkte werden immer dynamischer\, Kundenanforderungen nehmen zu und unterliegen einem immer schnelleren\, kontinuierlichen Wandel. Bewährte Strategien funktionieren nicht mehr wie gewohnt. Technologischer Wandel und Transformationsprozesse in den angestammten Märkten erfordern es immer häufiger\, sich wohl oder übel Vertriebsmöglichkeiten in neuen Märkten erschließen zu müssen. Das ist jedoch oftmals mit Herausforderungen verbunden: der sogenannten Kaltakquise. Im Kontakt zu unbekannten Kunden und Ansprechpartnern können nur selten langjährige Vertriebskanäle oder Partnerschaften genutzt werden und die in neuen Betätigungsfeldern gebräuchliche „Fachsprache“\, Normen und Regelwerke unterscheiden sich zum Teil erheblich vom bislang Gewohnten. \nIm Vertriebsprozess stehen viele Unternehmen dann vor derselben Herausforderung: viele Angebote bleiben zunächst unbeantwortet – die Ursachen sind meist vielschichtig\, aber nur selten mangelndes Interesse. Oft finden Kunden einfach keine Zeit\, um sich mit dem Angebot zu beschäftigen oder es gibt Themen mit höherer Priorität. Auch die aktuelle wirtschaftliche Situation mit den damit verbundenen Unsicherheiten und Herausforderungen führt oft dazu\, dass Beauftragungen zunächst auf Eis liegen. \nWie kann ein Angebot also professionell und zeitnah nachgefasst werden\, ohne dabei aufdringlich zu wirken? Wie ist die beste Reaktion auf Einwände der Interessenten? Und wenn es in die Verhandlung geht: Sind Rabatte wirklich die beste Strategie für den Abschluss? \nIm Rahmen dieser Veranstaltungsreihe der Special Interest Group Marketing möchten wir mit der Marketing- und Vertriebsexpertin Dr. Martina Ostertag die wichtigsten Trends beleuchten\, praktische Tipps geben und diskutieren\, wie Technologieunternehmen ihren Vertrieb fit für die Zukunft machen können. \nThemen der Veranstaltung: \n\nWie Sie Angebote gezielt nachfassen ohne aufdringlich zu wirken\nWie Sie mit Kundeneinwänden professionell und zielführend umgehen\nWarum Preisnachlässe oft ein Fehler sind und welche Alternativen es gibt\n\nExpertin: Dr. Martina Ostertag\, Geschäftsführerin der ITM Industrie & Technologie-Marketing GmbH \nDie Teilnahmezahl ist begrenzt. Die Teilnahme ist kostenfrei\, eine Anmeldung ist erforderlich bis spätestens 21.03.2025. \nDas Programm zur Veranstaltung und die Anmeldung gehen unseren Mitgliedern per Mail zu.
URL:https://cec-leonberg.de/termine/kooperationsveranstaltung-angebote-erfolgreich-nachfassen/
LOCATION:Online
CATEGORIES:Kooperationsveranstaltung
ATTACH;FMTTYPE=image/jpeg:https://cec-leonberg.de/wp-content/uploads/2024/02/Icon_CEC_Kooperationsveranstaltung.jpg
END:VEVENT
BEGIN:VEVENT
DTSTART;TZID=UTC:20250429T150000
DTEND;TZID=UTC:20250429T180000
DTSTAMP:20260425T130927
CREATED:20231122T102507Z
LAST-MODIFIED:20250311T140645Z
UID:2450-1745938800-1745949600@cec-leonberg.de
SUMMARY:CEC-Interessenskreis: Moderne Produktion in Sauberraum und Reinraum
DESCRIPTION:Wie sauber ist die Produktion wirklich? Ob Grauraum\, Sauberraum oder zertifizierter Reinraum – kontrollierte Fertigungsumgebungen sind ein entscheidender Erfolgsfaktor in der modernen Produktion. Erst die richtige Messtechnik macht unsichtbare Verunreinigungen sichtbar! Erleben Sie in diesem exklusiven CEC-Interessenskreis bei der PMT GmbH die ganze Bandbreite an Messtechnologien zur Partikelerkennung – zum Anfassen und Ausprobieren! \nUnser CEC-Mitglied PMT-Partikel Messtechnik GmbH öffnet am 29.04.2025 um 15:00 Uhr seine Türen und lädt Sie herzlich zum CEC-Interessenskreis: Moderne Produktion in Sauberraum und Reinraum – praktische Einführung große und kleine Partikel zu messen ein. \n  \nTop-Themen: \n\n TecSa\nDeposition Monitoring\nSpace Vehicle Contamination Control\nLuftkeimüberwachung\n\n  \n\n\n\n\n\n\n\n\n\n\n\n\n\n\n\n\n\n\n\n\n\n\n\n\n\n\n\n\nTermin: 29. April 2025 |  15:00 Uhr | Empfang ab 14:30 Uhr \n\nOrt: PMT-Partikel Messtechnik GmbH\, Schafwäsche 8\, 71296 Heimsheim \n  \n\nDas erwartet Sie: \n\nImpulsvorträge: Expertenwissen zu Sauber- und Reinraumkonzepten – praxisnah und kompakt\nLive-Demonstrationen: Verschiedene Messsysteme im direkten Vergleich\nHands-on-Session: Messen Sie selbst – von Grobpartikeln bis zu feinster Verunreinigung\nESD-Thematik: Elektrostatische Entladung als oft unterschätzter Faktor in der Produktion\nAustausch & Networking: Profitieren Sie von Erfahrungen aus der Praxis\n\n  \nZielgruppe: Produktionsleitung\, Qualitätssicherung und alle\, die saubere Fertigung gezielt optimieren wollen. \n Anmeldung: Die Teilnahme ist kostenfrei\, die Plätze sind begrenzt. CEC-Mitglieder haben Vorrang. Sichern Sie sich Ihren Platz >>  REGISTRIERUNG
URL:https://cec-leonberg.de/termine/interessenskreis-reinraum-stammtisch/
LOCATION:PMT-Partikel Messtechnik GmbH\, Schafwäsche 8\, 71296 Heimsheim
CATEGORIES:Interessenskreis
ATTACH;FMTTYPE=image/jpeg:https://cec-leonberg.de/wp-content/uploads/2023/11/Icon_CEC_Interessenskreis_PMT.jpg
END:VEVENT
END:VCALENDAR