BEGIN:VCALENDAR
VERSION:2.0
PRODID:-//Das Netzwerk zur Technischen Sauberkeit - ECPv6.15.20//NONSGML v1.0//EN
CALSCALE:GREGORIAN
METHOD:PUBLISH
X-ORIGINAL-URL:https://cec-leonberg.de
X-WR-CALDESC:Veranstaltungen für Das Netzwerk zur Technischen Sauberkeit
REFRESH-INTERVAL;VALUE=DURATION:PT1H
X-Robots-Tag:noindex
X-PUBLISHED-TTL:PT1H
BEGIN:VTIMEZONE
TZID:UTC
BEGIN:STANDARD
TZOFFSETFROM:+0000
TZOFFSETTO:+0000
TZNAME:UTC
DTSTART:20230101T000000
END:STANDARD
END:VTIMEZONE
BEGIN:VEVENT
DTSTART;TZID=UTC:20241001T153000
DTEND;TZID=UTC:20241001T173000
DTSTAMP:20260425T230505
CREATED:20240815T154042Z
LAST-MODIFIED:20240815T154255Z
UID:2797-1727796600-1727803800@cec-leonberg.de
SUMMARY:Arbeitsgruppe "Digitale Anbindung von Reinigungsanlagen" - 2. Sitzung
DESCRIPTION:Die Grundidee des Projekts ist die dauerhafte Steigerung der Direktläuferquote\, die Optimierung der Reinigungsprogramme sowie eine schnelle Ursachenanalyse auf Basis lernender Systeme in der Prozesskette Technische Sauberkeit. Grundlage dafür stellt die prozessübergreifende Einbindung von Schnittstellen mithilfe von standardisierten Daten und Kommunikationsträgern dar. Daraus sollen sich potentielle Use-Cases wie Handlungsempfehlungssysteme\, Trend- und Frühwarnsysteme sowie digitale Beipackzettel für Produkte im Reinigungsprozess abbilden lassen. \nIm ersten Projektabschnitt soll die Schnittstellen-Einbindung der Reinigungsanlage mittels OPC-UA in die digitale Fabrik erfolgen. Die Schnittstelle bildet die Basis für weitere Anwendungen. \nWir freuen uns\, wenn auch Sie aktiv am Projekt teilnehmen wollen. Bitte verwenden Sie sich dazu an die CEC-Geschäftsstelle. \nVoraussetzung zur Teilnahme am Projekt ist eine Mitgliedschaft im CEC. Sollten Sie noch kein Mitglied im CEC-Netzwerk sein\, finden Sie alle Informationen sowie den Mitgliedsantrag >> hier.
URL:https://cec-leonberg.de/termine/arbeitsgruppe-digitale-anbindung-von-reinigungsanlagen-2-sitzung/
LOCATION:Online
CATEGORIES:Arbeitskreis
ATTACH;FMTTYPE=image/jpeg:https://cec-leonberg.de/wp-content/uploads/2022/09/Icon_CEC-KI-Projekt.jpg
ORGANIZER;CN="Cleaning Excellence Center (CEC)":MAILTO:info@cec-leonberg.de
END:VEVENT
BEGIN:VEVENT
DTSTART;TZID=UTC:20241015T103000
DTEND;TZID=UTC:20241015T120000
DTSTAMP:20260425T230505
CREATED:20240809T121419Z
LAST-MODIFIED:20240809T121454Z
UID:2778-1728988200-1728993600@cec-leonberg.de
SUMMARY:Kooperationsveranstaltung: "Akquise und Einwandbehandlung"
DESCRIPTION:In Kooperation mit der Wirtschaftsförderung Region Stuttgart laden wir Sie herzlich zur Online-Veranstaltung „Akquise und Einwandbehandlung“ am 15.10.2024 ein. \nDer Wettbewerb im Maschinenbau wird härter. Um sich von der Masse abzuheben\, ist eine zielgerichtete Akquise unerlässlich. In unserem exklusiven Webinar bekommen Sie einen Einblick\, wie Sie Ihre Vertriebseffizienz steigern und Ihre Abschlussquote erhöhen. Profitieren Sie vor allem von den Tipps von der Vorbereitung strukturierter Akquise-Maßnahmen bis hin zur optimalen Einwandbehandlung. \nIn der Veranstaltung werden u.a. folgende Aspekte betrachtet: \n\nBedeutung von Akquise – Warum Akquise vor allem in der jetzigen Zeit besonders wichtig ist\nVorbereitung und Zielgruppenanalyse – Welche Wege gibt es um erfolgreich Kunden zu gewinnen\nAblauf und Erfolgsfaktoren – Worauf ist z.B. im telefonischen Erstkontakt besonders zu achten\nEinwandbehandlung – Wie kann man professionell auf die Einwände des Kunden reagieren und überzeugende Verkaufsgespräche führen\n\nDie Teilnahmezahl ist begrenzt. Die Teilnahme ist kostenfrei\, eine Anmeldung ist erforderlich bis spätestens 10.10.2024. \nDas Programm zur Veranstaltung und die Anmeldung gehen unseren Mitgliedern per Mail zu.
URL:https://cec-leonberg.de/termine/akquise-und-einwandbehandlung/
LOCATION:Online
CATEGORIES:Kooperationsveranstaltung
ATTACH;FMTTYPE=image/jpeg:https://cec-leonberg.de/wp-content/uploads/2024/02/Icon_CEC_Kooperationsveranstaltung.jpg
END:VEVENT
END:VCALENDAR